BEGIN:VCALENDAR
VERSION:2.0
PRODID:-//welante.ch////DE 21.04.2026 04:38
METHOD:PUBLISH
BEGIN:VTIMEZONE
TZID:Europe/Zurich
X-LIC-LOCATION:Europe/Zurich
BEGIN:STANDARD
DTSTART:16011028T030000
TZOFFSETFROM:+0200
TZOFFSETTO:+0100
END:STANDARD
BEGIN:DAYLIGHT
DTSTART:16010325T020000
TZOFFSETFROM:+0100
TZOFFSETTO:+0200
END:DAYLIGHT
END:VTIMEZONE
BEGIN:VEVENT
CLASS:PUBLIC
UID:c1730b0cedca2b28e6ad5836eaa786c2
DTSTAMP:20221011T093217Z
DTSTART;TZID=Europe/Zurich:20221006T193000
DTEND;TZID=Europe/Zurich:20221006T204500
LOCATION:Universität Zürich-Zentrum mit Live-Übertragung
DESCRIPTION:Mit: Beat Wismer\nLink: https://www.vhszh.ch/kursangebot?course=22S-0360-15
URL;VALUE=URI:Link: https://www.vhszh.ch/kursangebot?course=22S-0360-15
SUMMARY:22S-0360-15 Who's afraid of Red\, Yellow and Blue: Mondrians Erbe
LAST-MODIFIED:20240328T195537Z
END:VEVENT
END:VCALENDAR