BEGIN:VCALENDAR
VERSION:2.0
PRODID:-//welante.ch////DE 25.04.2026 19:57
METHOD:PUBLISH
BEGIN:VTIMEZONE
TZID:Europe/Zurich
X-LIC-LOCATION:Europe/Zurich
BEGIN:STANDARD
DTSTART:16011028T030000
TZOFFSETFROM:+0200
TZOFFSETTO:+0100
END:STANDARD
BEGIN:DAYLIGHT
DTSTART:16010325T020000
TZOFFSETFROM:+0100
TZOFFSETTO:+0200
END:DAYLIGHT
END:VTIMEZONE
BEGIN:VEVENT
CLASS:PUBLIC
UID:2fc5118c498129305614f0047bf1c0d7
DTSTAMP:20220914T205908Z
DTSTART;TZID=Europe/Zurich:20220915T193000
DTEND;TZID=Europe/Zurich:20220915T210000
LOCATION:Universität Zürich-Zentrum mit Live-Übertragung
DESCRIPTION:Mit: Prof. Dr. Pasquale Calabrese\, Universität Basel\nLink: https://www.vhszh.ch/kursangebot?course=22S-0220-31
URL;VALUE=URI:Link: https://www.vhszh.ch/kursangebot?course=22S-0220-31
SUMMARY:22S-0220-31 Was uns froh oder wütend macht
LAST-MODIFIED:20240328T195537Z
END:VEVENT
END:VCALENDAR