BEGIN:VCALENDAR
VERSION:2.0
PRODID:-//welante.ch////DE 20.04.2026 14:00
METHOD:PUBLISH
BEGIN:VTIMEZONE
TZID:Europe/Zurich
X-LIC-LOCATION:Europe/Zurich
BEGIN:STANDARD
DTSTART:16011028T030000
TZOFFSETFROM:+0200
TZOFFSETTO:+0100
END:STANDARD
BEGIN:DAYLIGHT
DTSTART:16010325T020000
TZOFFSETFROM:+0100
TZOFFSETTO:+0200
END:DAYLIGHT
END:VTIMEZONE
BEGIN:VEVENT
CLASS:PUBLIC
UID:3ab1f8633b62edcd798f03a202784a1f
DTSTAMP:20210601T152039Z
DTSTART;TZID=Europe/Zurich:20220117T193000
DTEND;TZID=Europe/Zurich:20220117T204500
LOCATION:Online-Kurs
DESCRIPTION:Mit: Prof. Dr. Hans Hurni\, Universität Bern\nLink: https://www.vhszh.ch/kursangebot?course=21W-0320-13
URL;VALUE=URI:Link: https://www.vhszh.ch/kursangebot?course=21W-0320-13
SUMMARY:21W-0320-13 Äthiopiens umstrittener Megadamm am Blauen Nil (online)
LAST-MODIFIED:20240328T195537Z
END:VEVENT
END:VCALENDAR