BEGIN:VCALENDAR
VERSION:2.0
PRODID:-//welante.ch////DE 19.04.2026 20:40
METHOD:PUBLISH
BEGIN:VTIMEZONE
TZID:Europe/Zurich
X-LIC-LOCATION:Europe/Zurich
BEGIN:STANDARD
DTSTART:16011028T030000
RRULE:FREQ=YEARLY;BYDAY=-1SU;BYMONTH=10
TZOFFSETFROM:+0200
TZOFFSETTO:+0100
END:STANDARD
BEGIN:DAYLIGHT
DTSTART:16010325T020000
RRULE:FREQ=YEARLY;BYDAY=-1SU;BYMONTH=3
TZOFFSETFROM:+0100
TZOFFSETTO:+0200
END:DAYLIGHT
END:VTIMEZONE
BEGIN:VEVENT
CLASS:PUBLIC
UID:95d00ff02884c38e56dbc52873c15203
DTSTAMP:20210901T113924Z
DTSTART;TZID=Europe/Zurich:20220110T193000
DTEND;TZID=Europe/Zurich:20220110T204500
LOCATION:Online-Kurs
DESCRIPTION:Mit: Prof. Dr. Susanne Schmeier\, IHE Delft Institute for Water Education\, Prof. Dr. Hans Hurni\, Universität Bern\, Tobias von Lossow\, Clingendael Institute\, Prof. Dr. Rolf Weingartner\, Andreas Zumach\, Dr. Thomas Hennig\, Philipps-Universität Marburg\nLink: https://www.vhszh.ch/kursangebot?course=21W-0320-11\n\nTermine:\n10.01.2022 19:30\n17.01.2022 19:30\n24.01.2022 19:30\n07.02.2022 19:30\n14.02.2022 19:30\n21.02.2022 19:30
URL;VALUE=URI:Link: https://www.vhszh.ch/kursangebot?course=21W-0320-11
SUMMARY:21W-0320-11 Blaues Gold – Der Kampf ums Wasser (online)
LAST-MODIFIED:20240328T195537Z
RRULE:FREQ=WEEKLY;UNTIL=20220221T194500Z;WKST=SU;BYDAY=MO
EXDATE;TZID=Europe/Zurich:20220131T183000Z
END:VEVENT
END:VCALENDAR