BEGIN:VCALENDAR
VERSION:2.0
PRODID:-//welante.ch////DE 22.04.2026 01:51
METHOD:PUBLISH
BEGIN:VTIMEZONE
TZID:Europe/Zurich
X-LIC-LOCATION:Europe/Zurich
BEGIN:STANDARD
DTSTART:16011028T030000
TZOFFSETFROM:+0200
TZOFFSETTO:+0100
END:STANDARD
BEGIN:DAYLIGHT
DTSTART:16010325T020000
TZOFFSETFROM:+0100
TZOFFSETTO:+0200
END:DAYLIGHT
END:VTIMEZONE
BEGIN:VEVENT
CLASS:PUBLIC
UID:22b2d342b27df086c8221b3492520496
DTSTAMP:20211008T103836Z
DTSTART;TZID=Europe/Zurich:20211122T193000
DTEND;TZID=Europe/Zurich:20211122T204500
LOCATION:Universität Zürich-Zentrum mit Live-Übertragung
DESCRIPTION:Mit: Prof. Dr. Patrick Ziltener\nLink: https://www.vhszh.ch/kursangebot?course=21W-0320-06
URL;VALUE=URI:Link: https://www.vhszh.ch/kursangebot?course=21W-0320-06
SUMMARY:21W-0320-06 Afrikanische Erfahrungen mit China (HYBRID)
LAST-MODIFIED:20240328T195537Z
END:VEVENT
END:VCALENDAR